Workbook
Name Pensioen_dropdown: Data_overig!$B$7:$B$8

Sheet Stap 1. Handleiding
A1: Handleiding
B3: In dit tabblad beschrijven we stap voor stap de wijze waarop de rekentool kosten wijkverpleging gebruikt dient te worden.
B6: Stap 1. Handleiding
B7: 0. | C7: Voor de betekenis van de verschillende kleurenvelden kunt u onderstaande legenda gebruiken. De lichtgroene velden dient u in te vullen.
B17: Stap 2. Invulblad
B18: 1. | C18: Vul bij 'kosten van de beroepskracht' de schalen en de gewogen gemiddelde periodiek in voor wijkverpleging. Vul vervolgens in welk percentage van de functiemix wordt ingezet voor inhuur. Tot slot vul je voor de schalen en periodieken het aantal fte in voor de wijkverpleging. De functiemix wordt vervolgens automatisch berekend. LET OP: DE REEDS INGEVULDE PERIODIEK IS EEN VOORBEELD, DIE TIJDENS HET INVULLEN AANGEPAST DIENT TE WORDEN.
B19: 1a. | C19: De vooringevulde schalen en periodieken dienen uitdrukkelijk als suggestie. Het is mogelijk om dezelfde schaal meerdere keren te selecteren, waardoor er meerdere periodieken voor dezelfde schaal kunnen worden gekozen indien dit wenselijk is. Een schaal/periodiek-combinatie kan ook leeg worden gelaten, let er dan op dat het vak voor de schalenmix ook leeg wordt gelaten. Het bruto uurloon behorend bij de gekozen schaal en periodiek wordt vervolgens met de functies index en vergelijken gezocht op het tabblad CAO VVT. Het is mogelijk om het bruto uurloon te indexeren.
B20: 2. | C20: Vul vervolgens de gemiddelde opslag voor ORT in (op totaalniveau of per schaal), in procenten en indien deze in de CAO zijn afgesproken, de eenmalige uitkeringen per FTE in euro's.
B21: 3. | C21: Vervolgens kunnen de sociale lasten worden ingevuld. Dit kan op twee manieren, door een vast percentage in te vullen (dat daarmee geldt voor alle schalen) of door dit zelf te berekenen. In de eerste vraag in het blok Sociale lasten kiest u of u wilt werken met een 'opslag' (vaste opslag) of 'berekening'. Indien u kiest voor een vaste opslag, dan kunt u vervolgens uw eigen opslagpercentage invullen. Indien u kiest voor een berekening, wordt op basis van de werkelijke percentages per caoschaal een opslag berekend, hiervoor dient u een aantal percentages zelf in te vullen op basis van de eigen situatie.
B22: 4. | C22: De niet-productieve uren kunnen worden ingevuld door deze uit te splitsen naar de verschillende categorieën. Hier kan een percentage worden ingevuld voor aanvullend verlof, ziekteverzuim (hiervoor wordt een suggestie gegeven), doorbetaalde pauzes, scholing, professionele ontwikkeling, administratie en overleg en no-show. Voor het insturen van het rekenmodel naar zorgverzekeraars is het verplicht om percentages in te vullen voor verlof, aanvullend verlof, ziekteverzuim en zakelijke reistijd. Vul tevens het aantal declarabele uren per jaar voor ingehuurd personeel in (indien van toepassing).
B23: 5. | C23: Vul vervolgens bij reiskosten de gemiddelde materiële reiskosten per declarabel uur in. Reiskosten moeten worden omgerekend naar kosten per declarabel uur en in euro's worden ingevuld.
B24: 6. | C24: Vul bij overheadkosten de procentuele kosten (als percentage van totale kosten) voor het overheadpersoneel, inhuur/uitbesteding van overheadtaken, materiële overheadkosten, kosten voor vastgoed en overige materiële personele kosten in als percentage van de totale kosten. Definities staan op het tabblad "Uitgangspunten". Voor vastgoed betreft het hier de vastgoedkosten die zijn toe te schrijven aan de geleverde zorg plus de vastgoedkosten die gepaard gaat met overheadpersoneel/-diensten (kantoren). Deze kosten worden ingevuld als % van de totale kosten. Vervolgens wordt onderaan elk tabblad dit percentage van de totale kosten omgerekend naar een opslag op het uurloon primair proces door de percentages te delen door het percentage voor de kosten van het personeel voor het primair proces.
B25: 7. | C25: Vul vervolgens de opslagen in voor risico, marge en innovatie als percentage. Indien het rekenmodel wordt ingestuurd naar de zorgverzekeraar en er worden percentages opgenomen bij respectievelijk risico-opslag, innovatie en marge, dan is hierbij een toelichting per onderwerp verplicht. Deze kan worden op het tabblad "Stap 4. Algemene toelichting".
B26: 8. | C26: Vul tot slot de overige opbrengsten in. Dit betreft opbrengsten buiten het integraal tarief Zvw wijkverpleging. Ook zorg binnen de Zvw wijkverpleging die op een andere manier wordt bekostigd (zoals een regionale lumpsum afspraak voor onplanbare nachtzorg, thuiszorgtechnologie en netwerkzorg dementie) valt buiten beschouwing van deze rekentool (zowel in de kosten als in de opbrengsten). Vul eerst de totale opbrengst voor de organisatie per jaar in. Geef vervolgens aan welk deel van de opbrengst betrekking heeft op de Zvw wijkverpleging.
B28: Stap 3. Uitkomsten rekentool
B29: 1. | C29: Op dit tabblad wordt op basis van de cao-afspraken en de ingevulde gegevens de bruto en netto gewogen kostprijs per uur berekend. De uiteindelijke gewogen kostprijs staat helemaal rechts in de tabel op de regel die wordt aangegeven met "gewogen totale kosten per uur netto". Een grafische weergave van de opbouw van de kostprijs staat hier boven van.
B31: Stap 4. Algemene toelichting
B32: 1. | C32: Op dit tabblad kan een algemene toelichting worden gegeven bij de input die is geleverd op de overige tabbladen. Daarnaast worden een aantal algemene organisatiegegevens uitgevraagd.

Sheet Stap 2. Invulblad
A1: Integrale kostprijs per uur wijkverpleging - cao VVT
B3: Vul hier de benodigde gegevens in (groene cellen). Voor de legenda en uitleg zie het tabblad 'Stap 1. Handleiding'.
A5: Opbouw van de kosten
B7: Kosten van de beroepskracht
B8: Bron: cao VVT 2025-2026
B9: Salarisschaal | C9: Indexatie % | S9: Leerlingen | T9: Inhuurkosten* | V9: * Dit zijn de inhuurkosten per uur incl. alle opslagen zoals sociale lasten, reiskosten, overheadkosten etc. Houd hierbij rekening dat u later nog een correctie kan aanbrengen voor de niet-productieve uren.
B10: Periodiek (gewogen gemiddelde) | S10: n.v.t. | T10: n.v.t.
D11: =D9&"_"&D10 -> _ | E11: =E9&"_"&E10 -> _ | F11: =F9&"_"&F10 -> _ | G11: =G9&"_"&G10 -> _ | H11: =H9&"_"&H10 -> _ | I11: =I9&"_"&I10 -> _ | J11: =J9&"_"&J10 -> _ | K11: =K9&"_"&K10 -> _ | ... T11: =T9&"_"&T10 -> Inhuurkosten*_n.v.t.
B13: Bruto uurloon (kalenderjaar 2025) | D13: =IF(D16>D15,D16,D15) | E13: =IF(E16>E15,E16,E15) | F13: =IF(F16>F15,F16,F15) | G13: =IF(G16>G15,G16,G15) | H13: =IF(H16>H15,H16,H15) | I13: =IF(I16>I15,I16,I15) | J13: =IF(J16>J15,J16,J15) | K13: =IF(K16>K15,K16,K15) | ... R13: =IF(R16>R15,R16,R15) | V13: Staat standaard op kalenderjaar 2025. Dit kan aangepast worden op het tabblad CAO_VVT.
B14: Bruto uurloon geïndexeerd | D14: =IF(D13="","",D13*(1+$C14)) | E14: =IF(E13="","",E13*(1+$C14)) | F14: =IF(F13="","",F13*(1+$C14)) | G14: =IF(G13="","",G13*(1+$C14)) | H14: =IF(H13="","",H13*(1+$C14)) | I14: =IF(I13="","",I13*(1+$C14)) | J14: =IF(J13="","",J13*(1+$C14)) | K14: =IF(K13="","",K13*(1+$C14)) | ... S14: =IF(S13="","",S13*(1+$C14)) | T14: =IF(T13="","",T13) | V14: Vul hier indien nodig het indexatiepercentage t.o.v. het bruto-uurloon. De inhuurkosten worden niet geïndexeerd.
B15: Bruto uurloon o.b.v. cao VVT | D15: =IFERROR(INDEX(CAO_VVT!$CA$17:$CA$237,MATCH('Stap 2. Invulblad'!D11,CAO_VVT!$BW$17:$BW$237,0)),"") | E15: =IFERROR(INDEX(CAO_VVT!$CA$17:$CA$237,MATCH('Stap 2. Invulblad'!E11,CAO_VVT!$BW$17:$BW$237,0)),"") | F15: =IFERROR(INDEX(CAO_VVT!$CA$17:$CA$237,MATCH('Stap 2. Invulblad'!F11,CAO_VVT!$BW$17:$BW$237,0)),"") | G15: =IFERROR(INDEX(CAO_VVT!$CA$17:$CA$237,MATCH('Stap 2. Invulblad'!G11,CAO_VVT!$BW$17:$BW$237,0)),"") | H15: =IFERROR(INDEX(CAO_VVT!$CA$17:$CA$237,MATCH('Stap 2. Invulblad'!H11,CAO_VVT!$BW$17:$BW$237,0)),"") | I15: =IFERROR(INDEX(CAO_VVT!$CA$17:$CA$237,MATCH('Stap 2. Invulblad'!I11,CAO_VVT!$BW$17:$BW$237,0)),"") | J15: =IFERROR(INDEX(CAO_VVT!$CA$17:$CA$237,MATCH('Stap 2. Invulblad'!J11,CAO_VVT!$BW$17:$BW$237,0)),"") | K15: =IFERROR(INDEX(CAO_VVT!$CA$17:$CA$237,MATCH('Stap 2. Invulblad'!K11,CAO_VVT!$BW$17:$BW$237,0)),"") | ... R15: =IFERROR(INDEX(CAO_VVT!$CA$17:$CA$237,MATCH('Stap 2. Invulblad'!R11,CAO_VVT!$BW$17:$BW$237,0)),"")
B16: Wettelijk minimumloon per 1 januari 2023 | D16: =IF(D11="_","",CAO_VVT!$D$11) | E16: =IF(E11="_","",CAO_VVT!$D$11) | F16: =IF(F11="_","",CAO_VVT!$D$11) | G16: =IF(G11="_","",CAO_VVT!$D$11) | H16: =IF(H11="_","",CAO_VVT!$D$11) | I16: =IF(I11="_","",CAO_VVT!$D$11) | J16: =IF(J11="_","",CAO_VVT!$D$11) | K16: =IF(K11="_","",CAO_VVT!$D$11) | ... R16: =IF(R11="_","",CAO_VVT!$D$11)
B18: Schalenmix | D18: =IFERROR((100%-$T18)*(D19/SUM($D19:$S19)),"") | E18: =IFERROR((100%-$T18)*(E19/SUM($D19:$S19)),"") | F18: =IFERROR((100%-$T18)*(F19/SUM($D19:$S19)),"") | G18: =IFERROR((100%-$T18)*(G19/SUM($D19:$S19)),"") | H18: =IFERROR((100%-$T18)*(H19/SUM($D19:$S19)),"") | I18: =IFERROR((100%-$T18)*(I19/SUM($D19:$S19)),"") | J18: =IFERROR((100%-$T18)*(J19/SUM($D19:$S19)),"") | K18: =IFERROR((100%-$T18)*(K19/SUM($D19:$S19)),"") | ... S18: =IFERROR((100%-$T18)*(S19/SUM($D19:$S19)),"") | V18: Vul hier het percentage van de functiemix in voor de inhuur.
B19: Gemiddeld aantal fte voor Zvw wijkverpleging | V19: Vul hier het gemiddeld aantal fte per jaar per loonschaal/periodiek in voor de Zvw wijkverpleging.
B20: Schalenmix eigen personeel (PIL) | C20: =SUM(D20:T20) -> 0 | D20: =IFERROR((D19/SUM($D19:$S19)),"") | E20: =IFERROR((E19/SUM($D19:$S19)),"") | F20: =IFERROR((F19/SUM($D19:$S19)),"") | G20: =IFERROR((G19/SUM($D19:$S19)),"") | H20: =IFERROR((H19/SUM($D19:$S19)),"") | I20: =IFERROR((I19/SUM($D19:$S19)),"") | J20: =IFERROR((J19/SUM($D19:$S19)),"") | K20: =IFERROR((K19/SUM($D19:$S19)),"") | ... S20: =IFERROR((S19/SUM($D19:$S19)),"")
B22: Totaal schalenmix + inhuur % | C22: =SUM(D18:T18) -> 0
B24: Onregelmatigheidstoeslag (ORT)
B26: Wilt u het ORT percentage voor alle schalen gelijk houden?
C27: Totaal | D27: =IF(D9="","",CONCATENATE("FWG",D9)) | E27: =IF(E9="","",CONCATENATE("FWG",E9)) | F27: =IF(F9="","",CONCATENATE("FWG",F9)) | G27: =IF(G9="","",CONCATENATE("FWG",G9)) | H27: =IF(H9="","",CONCATENATE("FWG",H9)) | I27: =IF(I9="","",CONCATENATE("FWG",I9)) | J27: =IF(J9="","",CONCATENATE("FWG",J9)) | K27: =IF(K9="","",CONCATENATE("FWG",K9)) | ... R27: =IF(R9="","",CONCATENATE("FWG",R9)) | S27: =IF(S9="","",CONCATENATE(,S9)) -> Leerlingen
B28: Opslag ORT | V28: Van toepassing op avond/nacht/weekend-diensten. Houdt hierbij rekening dat de correctie voor productiviteit ook over de opslag ort plaatsvindt.
B30: ORT: daadwerkelijk gebruikte percentages | D30: =IF($C$26="Ja",$C$28,D28) -> 0 | E30: =IF($C$26="Ja",$C$28,E28) -> 0 | F30: =IF($C$26="Ja",$C$28,F28) -> 0 | G30: =IF($C$26="Ja",$C$28,G28) -> 0 | H30: =IF($C$26="Ja",$C$28,H28) -> 0 | I30: =IF($C$26="Ja",$C$28,I28) -> 0 | J30: =IF($C$26="Ja",$C$28,J28) -> 0 | K30: =IF($C$26="Ja",$C$28,K28) -> 0 | ... S30: =IF($C$26="Ja",$C$28,S28) -> 0
B32: Cao-gebonden kosten
B34: Opslag eindejaarsuitkering | C34: 0.0833 | E34: Op basis van artikel 4.2.11
B36: Minimale eindejaarsuitkering | C36: =((2604.43*CAO_VVT!D6)+(2708.61*CAO_VVT!D7))/CAO_VVT!$D$10 -> 1.4145474 | E36: Op basis van artikel 4.2.11. Op basis van de gehanteerde weging zoals ingevuld op het tabblad CAO VVT.
B38: Opslag vakantiegeld | C38: 0.08 | E38: Op basis van artikel 4.2.12
B40: Minimale vakantietoeslag | C40: =((2466.41*CAO_VVT!D6)+(2565.07*CAO_VVT!D7))/CAO_VVT!$D$10 -> 1.3395847 | E40: Op basis van artikel 4.2.12, minimum toeslag gedeeld door gemiddeld aantal uren op jaarbasis. Op basis van de gehanteerde weging zoals ingevuld op het tabblad CAO VVT.
B42: Eenmalige uitkeringen (totaal per FTE, in euro) | E42: Eenmalig uitkeringen die voortkomen uit CAO afspraken, totaal per FTE
B44: Sociale lasten
B46: Manier van berekening | E46: Er kan zowel met één "opslag' worden gerekend, als met een stapsgewijze berekening
B48: Sociale lasten: opslag | C48: %
B50: Opslag sociale lasten | E50: Voor definitie zie tabblad uitgangspunten
B52: Sociale lasten: berekening
B54: =B9 -> Salarisschaal | D54: =IF(D9="","",CONCATENATE("FWG",D9)) | E54: =IF(E9="","",CONCATENATE("FWG",E9)) | F54: =IF(F9="","",CONCATENATE("FWG",F9)) | G54: =IF(G9="","",CONCATENATE("FWG",G9)) | H54: =IF(H9="","",CONCATENATE("FWG",H9)) | I54: =IF(I9="","",CONCATENATE("FWG",I9)) | J54: =IF(J9="","",CONCATENATE("FWG",J9)) | K54: =IF(K9="","",CONCATENATE("FWG",K9)) | ... R54: =IF(R9="","",CONCATENATE("FWG",R9)) | S54: =IF(S9="","",CONCATENATE(,S9)) -> Leerlingen
B55: =B10 -> Periodiek (gewogen gemiddelde) | D55: =IF(D9="","",D10) | E55: =IF(E9="","",E10) | F55: =IF(F9="","",F10) | G55: =IF(G9="","",G10) | H55: =IF(H9="","",H10) | I55: =IF(I9="","",I10) | J55: =IF(J9="","",J10) | K55: =IF(K9="","",K10) | ... S55: =IF(S9="","",S10) -> n.v.t.
B57: Fulltime salaris | D57: =IF(D14="","",'Stap 3. Uitkomsten rekentool'!D38*CAO_VVT!$D$10) | E57: =IF(E14="","",'Stap 3. Uitkomsten rekentool'!E38*CAO_VVT!$D$10) | F57: =IF(F14="","",'Stap 3. Uitkomsten rekentool'!F38*CAO_VVT!$D$10) | G57: =IF(G14="","",'Stap 3. Uitkomsten rekentool'!G38*CAO_VVT!$D$10) | H57: =IF(H14="","",'Stap 3. Uitkomsten rekentool'!H38*CAO_VVT!$D$10) | I57: =IF(I14="","",'Stap 3. Uitkomsten rekentool'!I38*CAO_VVT!$D$10) | J57: =IF(J14="","",'Stap 3. Uitkomsten rekentool'!J38*CAO_VVT!$D$10) | K57: =IF(K14="","",'Stap 3. Uitkomsten rekentool'!K38*CAO_VVT!$D$10) | ... S57: =IF(S14="","",'Stap 3. Uitkomsten rekentool'!S38*CAO_VVT!$D$10)
B58: OP premie (werkgeversdeel + werknemersdeel) (25,80% in 2025) | D58: =IF(D14="","",$C58) | E58: =IF(E14="","",$C58) | F58: =IF(F14="","",$C58) | G58: =IF(G14="","",$C58) | H58: =IF(H14="","",$C58) | I58: =IF(I14="","",$C58) | J58: =IF(J14="","",$C58) | K58: =IF(K14="","",$C58) | ... S58: =IF(S14="","",$C58)
B59: AOW franchise (€ 16.655,00 in 2025) | D59: =IF(D14="","",$C59) | E59: =IF(E14="","",$C59) | F59: =IF(F14="","",$C59) | G59: =IF(G14="","",$C59) | H59: =IF(H14="","",$C59) | I59: =IF(I14="","",$C59) | J59: =IF(J14="","",$C59) | K59: =IF(K14="","",$C59) | ... S59: =IF(S14="","",$C59)
B60: OP premie per jaar | D60: =IF(D14="","",(D57-D59)*D58) | E60: =IF(E14="","",(E57-E59)*E58) | F60: =IF(F14="","",(F57-F59)*F58) | G60: =IF(G14="","",(G57-G59)*G58) | H60: =IF(H14="","",(H57-H59)*H58) | I60: =IF(I14="","",(I57-I59)*I58) | J60: =IF(J14="","",(J57-J59)*J58) | K60: =IF(K14="","",(K57-K59)*K58) | ... S60: =IF(S14="","",(S57-S59)*S58)
B61: Werkgeversdeel OP (obv cao) | C61: =Data_overig!$B$28 -> 0.5 | D61: =IF(D14="","",(D60/D57)*$C61) | E61: =IF(E14="","",(E60/E57)*$C61) | F61: =IF(F14="","",(F60/F57)*$C61) | G61: =IF(G14="","",(G60/G57)*$C61) | H61: =IF(H14="","",(H60/H57)*$C61) | I61: =IF(I14="","",(I60/I57)*$C61) | J61: =IF(J14="","",(J60/J57)*$C61) | K61: =IF(K14="","",(K60/K57)*$C61) | ... S61: =IF(S14="","",(S60/S57)*$C61)
B62: AP premie (werkgeversdeel + werknemersdeel) (0,50% in 2025) | D62: =IF(D14="","",$C62) | E62: =IF(E14="","",$C62) | F62: =IF(F14="","",$C62) | G62: =IF(G14="","",$C62) | H62: =IF(H14="","",$C62) | I62: =IF(I14="","",$C62) | J62: =IF(J14="","",$C62) | K62: =IF(K14="","",$C62) | ... S62: =IF(S14="","",$C62)
...

Sheet Stap 3. Uitkomsten rekentool
A1: Berekening gewogen kostprijs wijkverpleging
B3: Gewogen kostprijs
W6: Grafiek
X8: ='Stap 3. Uitkomsten rekentool'!D31 | Y8: ='Stap 3. Uitkomsten rekentool'!E31 | Z8: ='Stap 3. Uitkomsten rekentool'!F31 | AA8: ='Stap 3. Uitkomsten rekentool'!G31 | AB8: ='Stap 3. Uitkomsten rekentool'!H31 | AC8: ='Stap 3. Uitkomsten rekentool'!I31 | AD8: ='Stap 3. Uitkomsten rekentool'!J31 | AE8: ='Stap 3. Uitkomsten rekentool'!K31 | ... AN8: ='Stap 3. Uitkomsten rekentool'!T31 -> Inhuurkosten*
X9: ='Stap 3. Uitkomsten rekentool'!D32 | Y9: ='Stap 3. Uitkomsten rekentool'!E32 | Z9: ='Stap 3. Uitkomsten rekentool'!F32 | AA9: ='Stap 3. Uitkomsten rekentool'!G32 | AB9: ='Stap 3. Uitkomsten rekentool'!H32 | AC9: ='Stap 3. Uitkomsten rekentool'!I32 | AD9: ='Stap 3. Uitkomsten rekentool'!J32 | AE9: ='Stap 3. Uitkomsten rekentool'!K32 | ... AN9: ='Stap 3. Uitkomsten rekentool'!T32 -> 0
W10: Bruto uurloon | X10: ='Stap 3. Uitkomsten rekentool'!D33 | Y10: ='Stap 3. Uitkomsten rekentool'!E33 | Z10: ='Stap 3. Uitkomsten rekentool'!F33 | AA10: ='Stap 3. Uitkomsten rekentool'!G33 | AB10: ='Stap 3. Uitkomsten rekentool'!H33 | AC10: ='Stap 3. Uitkomsten rekentool'!I33 | AD10: ='Stap 3. Uitkomsten rekentool'!J33 | AE10: ='Stap 3. Uitkomsten rekentool'!K33 | ... AN10: ='Stap 3. Uitkomsten rekentool'!T33
W11: Opslagen | X11: =SUM('Stap 3. Uitkomsten rekentool'!D34:D37) -> 0 | Y11: =SUM('Stap 3. Uitkomsten rekentool'!E34:E37) -> 0 | Z11: =SUM('Stap 3. Uitkomsten rekentool'!F34:F37) -> 0 | AA11: =SUM('Stap 3. Uitkomsten rekentool'!G34:G37) -> 0 | AB11: =SUM('Stap 3. Uitkomsten rekentool'!H34:H37) -> 0 | AC11: =SUM('Stap 3. Uitkomsten rekentool'!I34:I37) -> 0 | AD11: =SUM('Stap 3. Uitkomsten rekentool'!J34:J37) -> 0 | AE11: =SUM('Stap 3. Uitkomsten rekentool'!K34:K37) -> 0 | ... AN11: =SUM('Stap 3. Uitkomsten rekentool'!T34:T37) -> 0
W12: Sociale lasten | X12: ='Stap 3. Uitkomsten rekentool'!D39 -> 0 | Y12: ='Stap 3. Uitkomsten rekentool'!E39 -> 0 | Z12: ='Stap 3. Uitkomsten rekentool'!F39 -> 0 | AA12: ='Stap 3. Uitkomsten rekentool'!G39 -> 0 | AB12: ='Stap 3. Uitkomsten rekentool'!H39 -> 0 | AC12: ='Stap 3. Uitkomsten rekentool'!I39 -> 0 | AD12: ='Stap 3. Uitkomsten rekentool'!J39 -> 0 | AE12: ='Stap 3. Uitkomsten rekentool'!K39 -> 0 | ... AN12: ='Stap 3. Uitkomsten rekentool'!T39 -> 0
W13: Productiviteitscorrectie | X13: =IFERROR('Stap 3. Uitkomsten rekentool'!D41-'Stap 3. Uitkomsten rekentool'!D40,"") | Y13: =IFERROR('Stap 3. Uitkomsten rekentool'!E41-'Stap 3. Uitkomsten rekentool'!E40,"") | Z13: =IFERROR('Stap 3. Uitkomsten rekentool'!F41-'Stap 3. Uitkomsten rekentool'!F40,"") | AA13: =IFERROR('Stap 3. Uitkomsten rekentool'!G41-'Stap 3. Uitkomsten rekentool'!G40,"") | AB13: =IFERROR('Stap 3. Uitkomsten rekentool'!H41-'Stap 3. Uitkomsten rekentool'!H40,"") | AC13: =IFERROR('Stap 3. Uitkomsten rekentool'!I41-'Stap 3. Uitkomsten rekentool'!I40,"") | AD13: =IFERROR('Stap 3. Uitkomsten rekentool'!J41-'Stap 3. Uitkomsten rekentool'!J40,"") | AE13: =IFERROR('Stap 3. Uitkomsten rekentool'!K41-'Stap 3. Uitkomsten rekentool'!K40,"") | ... AN13: =IFERROR('Stap 3. Uitkomsten rekentool'!T41-'Stap 3. Uitkomsten rekentool'!T40,"")
W14: Reiskosten | X14: ='Stap 3. Uitkomsten rekentool'!D42 | Y14: ='Stap 3. Uitkomsten rekentool'!E42 | Z14: ='Stap 3. Uitkomsten rekentool'!F42 | AA14: ='Stap 3. Uitkomsten rekentool'!G42 | AB14: ='Stap 3. Uitkomsten rekentool'!H42 | AC14: ='Stap 3. Uitkomsten rekentool'!I42 | AD14: ='Stap 3. Uitkomsten rekentool'!J42 | AE14: ='Stap 3. Uitkomsten rekentool'!K42 | ... AN14: ='Stap 3. Uitkomsten rekentool'!T42 -> 0
W15: Overhead | X15: =SUM('Stap 3. Uitkomsten rekentool'!D45:D47) -> 0 | Y15: =SUM('Stap 3. Uitkomsten rekentool'!E45:E47) -> 0 | Z15: =SUM('Stap 3. Uitkomsten rekentool'!F45:F47) -> 0 | AA15: =SUM('Stap 3. Uitkomsten rekentool'!G45:G47) -> 0 | AB15: =SUM('Stap 3. Uitkomsten rekentool'!H45:H47) -> 0 | AC15: =SUM('Stap 3. Uitkomsten rekentool'!I45:I47) -> 0 | AD15: =SUM('Stap 3. Uitkomsten rekentool'!J45:J47) -> 0 | AE15: =SUM('Stap 3. Uitkomsten rekentool'!K45:K47) -> 0 | ... AN15: =SUM('Stap 3. Uitkomsten rekentool'!T45:T47) -> 0
W16: Risico-opslag | X16: ='Stap 3. Uitkomsten rekentool'!D49 -> 0 | Y16: ='Stap 3. Uitkomsten rekentool'!E49 -> 0 | Z16: ='Stap 3. Uitkomsten rekentool'!F49 -> 0 | AA16: ='Stap 3. Uitkomsten rekentool'!G49 -> 0 | AB16: ='Stap 3. Uitkomsten rekentool'!H49 -> 0 | AC16: ='Stap 3. Uitkomsten rekentool'!I49 -> 0 | AD16: ='Stap 3. Uitkomsten rekentool'!J49 -> 0 | AE16: ='Stap 3. Uitkomsten rekentool'!K49 -> 0 | ... AN16: ='Stap 3. Uitkomsten rekentool'!T49 -> 0
W17: Periodiekmix | X17: ='Stap 3. Uitkomsten rekentool'!D52 | Y17: ='Stap 3. Uitkomsten rekentool'!E52 | Z17: ='Stap 3. Uitkomsten rekentool'!F52 | AA17: ='Stap 3. Uitkomsten rekentool'!G52 | AB17: ='Stap 3. Uitkomsten rekentool'!H52 | AC17: ='Stap 3. Uitkomsten rekentool'!I52 | AD17: ='Stap 3. Uitkomsten rekentool'!J52 | AE17: ='Stap 3. Uitkomsten rekentool'!K52 | ... AN17: ='Stap 3. Uitkomsten rekentool'!T52 -> 0
X19: Totaal
W21: Bruto uurloon | X21: =SUMPRODUCT(X10:AN10,$X$17:$AN$17) -> 0
W22: Opslagen vakantie, EJU & ORT | X22: =SUMPRODUCT(X11:AN11,$X$17:$AN$17) -> 0
W23: Sociale lasten | X23: =SUMPRODUCT(X12:AN12,$X$17:$AN$17) -> 0
W24: Niet produc- tieve uren | X24: =SUMPRODUCT(X13:AN13,$X$17:$AN$17) -> 0
W25: Bruto loon kosten | X25: =SUM(X21:X24) -> 0
W26: Reiskosten | X26: =SUMPRODUCT(X14:AN14,$X$17:$AN$17) -> 0
W27: Bruto loon kosten incl. reiskosten | X27: =SUM(X25:X26) -> 0
W28: Overhead- kosten | X28: =SUMPRODUCT($X$15:$AN$15,X17:AN17) -> 0
W29: Kostprijs per uur | X29: =SUM(X27:X28) -> 0
W30: Risico-opslag | X30: =SUMPRODUCT($X$17:$AN$17,X16:AN16) -> 0
B31: Schaal | D31: =IF('Stap 2. Invulblad'!D9="","",CONCATENATE("FWG",'Stap 2. Invulblad'!D9)) | E31: =IF('Stap 2. Invulblad'!E9="","",CONCATENATE("FWG",'Stap 2. Invulblad'!E9)) | F31: =IF('Stap 2. Invulblad'!F9="","",CONCATENATE("FWG",'Stap 2. Invulblad'!F9)) | G31: =IF('Stap 2. Invulblad'!G9="","",CONCATENATE("FWG",'Stap 2. Invulblad'!G9)) | H31: =IF('Stap 2. Invulblad'!H9="","",CONCATENATE("FWG",'Stap 2. Invulblad'!H9)) | I31: =IF('Stap 2. Invulblad'!I9="","",CONCATENATE("FWG",'Stap 2. Invulblad'!I9)) | J31: =IF('Stap 2. Invulblad'!J9="","",CONCATENATE("FWG",'Stap 2. Invulblad'!J9)) | K31: =IF('Stap 2. Invulblad'!K9="","",CONCATENATE("FWG",'Stap 2. Invulblad'!K9)) | ... R31: =IF('Stap 2. Invulblad'!R9="","",CONCATENATE("FWG",'Stap 2. Invulblad'!R9)) | S31: =IF('Stap 2. Invulblad'!S9="","",CONCATENATE('Stap 2. Invulblad'!S9)) -> Leerlingen | T31: =IF('Stap 2. Invulblad'!T9="","",CONCATENATE('Stap 2. Invulblad'!T9)) -> Inhuurkosten* | U31: Totaal | W31: Kostprijs bruto incl. opslagen | X31: =SUM(X29:X30) -> 0
B32: Periodiek (gewogen gemiddelde) | D32: =IF('Stap 2. Invulblad'!D10="","",'Stap 2. Invulblad'!D10) | E32: =IF('Stap 2. Invulblad'!E10="","",'Stap 2. Invulblad'!E10) | F32: =IF('Stap 2. Invulblad'!F10="","",'Stap 2. Invulblad'!F10) | G32: =IF('Stap 2. Invulblad'!G10="","",'Stap 2. Invulblad'!G10) | H32: =IF('Stap 2. Invulblad'!H10="","",'Stap 2. Invulblad'!H10) | I32: =IF('Stap 2. Invulblad'!I10="","",'Stap 2. Invulblad'!I10) | J32: =IF('Stap 2. Invulblad'!J10="","",'Stap 2. Invulblad'!J10) | K32: =IF('Stap 2. Invulblad'!K10="","",'Stap 2. Invulblad'!K10) | ... S32: =IF('Stap 2. Invulblad'!S10="","",'Stap 2. Invulblad'!S10) -> n.v.t. | W32: Opbrengsten | X32: =-U57 -> #VALUE!
B33: Bruto uurloon | D33: ='Stap 2. Invulblad'!D14 | E33: ='Stap 2. Invulblad'!E14 | F33: ='Stap 2. Invulblad'!F14 | G33: ='Stap 2. Invulblad'!G14 | H33: ='Stap 2. Invulblad'!H14 | I33: ='Stap 2. Invulblad'!I14 | J33: ='Stap 2. Invulblad'!J14 | K33: ='Stap 2. Invulblad'!K14 | ... T33: ='Stap 2. Invulblad'!T14 | W33: Kostprijs netto incl. opslagen | X33: =SUM(X31:X32) -> #VALUE!
B34: Opslag eindejaarsuitkering | C34: ='Stap 2. Invulblad'!C34 -> 0.0833 | D34: =IFERROR(IF(D$33*$C34<'Stap 2. Invulblad'!$C$36,'Stap 2. Invulblad'!$C$36,D$33*$C34),"") | E34: =IFERROR(IF(E$33*$C34<'Stap 2. Invulblad'!$C$36,'Stap 2. Invulblad'!$C$36,E$33*$C34),"") | F34: =IFERROR(IF(F$33*$C34<'Stap 2. Invulblad'!$C$36,'Stap 2. Invulblad'!$C$36,F$33*$C34),"") | G34: =IFERROR(IF(G$33*$C34<'Stap 2. Invulblad'!$C$36,'Stap 2. Invulblad'!$C$36,G$33*$C34),"") | H34: =IFERROR(IF(H$33*$C34<'Stap 2. Invulblad'!$C$36,'Stap 2. Invulblad'!$C$36,H$33*$C34),"") | I34: =IFERROR(IF(I$33*$C34<'Stap 2. Invulblad'!$C$36,'Stap 2. Invulblad'!$C$36,I$33*$C34),"") | J34: =IFERROR(IF(J$33*$C34<'Stap 2. Invulblad'!$C$36,'Stap 2. Invulblad'!$C$36,J$33*$C34),"") | K34: =IFERROR(IF(K$33*$C34<'Stap 2. Invulblad'!$C$36,'Stap 2. Invulblad'!$C$36,K$33*$C34),"") | ... R34: =IFERROR(IF(R$33*$C34<'Stap 2. Invulblad'!$C$36,'Stap 2. Invulblad'!$C$36,R$33*$C34),"") | S34: =IFERROR(S$33*$C34,"")
B35: Opslag vakantiegeld | C35: ='Stap 2. Invulblad'!C38 -> 0.08 | D35: =IFERROR(IF(D33*$C35<'Stap 2. Invulblad'!$C$40,'Stap 2. Invulblad'!$C$40,D33*$C35),"") | E35: =IFERROR(IF(E33*$C35<'Stap 2. Invulblad'!$C$40,'Stap 2. Invulblad'!$C$40,E33*$C35),"") | F35: =IFERROR(IF(F33*$C35<'Stap 2. Invulblad'!$C$40,'Stap 2. Invulblad'!$C$40,F33*$C35),"") | G35: =IFERROR(IF(G33*$C35<'Stap 2. Invulblad'!$C$40,'Stap 2. Invulblad'!$C$40,G33*$C35),"") | H35: =IFERROR(IF(H33*$C35<'Stap 2. Invulblad'!$C$40,'Stap 2. Invulblad'!$C$40,H33*$C35),"") | I35: =IFERROR(IF(I33*$C35<'Stap 2. Invulblad'!$C$40,'Stap 2. Invulblad'!$C$40,I33*$C35),"") | J35: =IFERROR(IF(J33*$C35<'Stap 2. Invulblad'!$C$40,'Stap 2. Invulblad'!$C$40,J33*$C35),"") | K35: =IFERROR(IF(K33*$C35<'Stap 2. Invulblad'!$C$40,'Stap 2. Invulblad'!$C$40,K33*$C35),"") | ... R35: =IFERROR(IF(R33*$C35<'Stap 2. Invulblad'!$C$40,'Stap 2. Invulblad'!$C$40,R33*$C35),"") | S35: =IFERROR(S33*$C35,"")
B36: Opslag ORT | D36: =IFERROR(D$33*'Stap 2. Invulblad'!D30,"") | E36: =IFERROR(E$33*'Stap 2. Invulblad'!E30,"") | F36: =IFERROR(F$33*'Stap 2. Invulblad'!F30,"") | G36: =IFERROR(G$33*'Stap 2. Invulblad'!G30,"") | H36: =IFERROR(H$33*'Stap 2. Invulblad'!H30,"") | I36: =IFERROR(I$33*'Stap 2. Invulblad'!I30,"") | J36: =IFERROR(J$33*'Stap 2. Invulblad'!J30,"") | K36: =IFERROR(K$33*'Stap 2. Invulblad'!K30,"") | ... S36: =IFERROR(S$33*'Stap 2. Invulblad'!S30,"") | T36: =IF(OR(T33="",T33=0),0,IFERROR(T$33*'Stap 2. Invulblad'!#REF!,"")) -> 0
B37: Eenmalige uitkeringen | D37: =IF(D33="","",'Stap 2. Invulblad'!$C$42/CAO_VVT!$D$10) | E37: =IF(E33="","",'Stap 2. Invulblad'!$C$42/CAO_VVT!$D$10) | F37: =IF(F33="","",'Stap 2. Invulblad'!$C$42/CAO_VVT!$D$10) | G37: =IF(G33="","",'Stap 2. Invulblad'!$C$42/CAO_VVT!$D$10) | H37: =IF(H33="","",'Stap 2. Invulblad'!$C$42/CAO_VVT!$D$10) | I37: =IF(I33="","",'Stap 2. Invulblad'!$C$42/CAO_VVT!$D$10) | J37: =IF(J33="","",'Stap 2. Invulblad'!$C$42/CAO_VVT!$D$10) | K37: =IF(K33="","",'Stap 2. Invulblad'!$C$42/CAO_VVT!$D$10) | ... S37: =IF(S33="","",'Stap 2. Invulblad'!$C$42/CAO_VVT!$D$10)
B38: Totale bruto uurloon | D38: =SUM(D33:D37) -> 0 | E38: =SUM(E33:E37) -> 0 | F38: =SUM(F33:F37) -> 0 | G38: =SUM(G33:G37) -> 0 | H38: =SUM(H33:H37) -> 0 | I38: =SUM(I33:I37) -> 0 | J38: =SUM(J33:J37) -> 0 | K38: =SUM(K33:K37) -> 0 | ... S38: =SUM(S33:S37) -> 0 | T38: =IF(OR(T33="",T33=0),0,SUM(T33:T37)) -> 0
B39: Opslag sociale lasten | D39: ='Stap 2. Invulblad'!D78*SUM(D33:D36) -> 0 | E39: ='Stap 2. Invulblad'!E78*SUM(E33:E36) -> 0 | F39: ='Stap 2. Invulblad'!F78*SUM(F33:F36) -> 0 | G39: ='Stap 2. Invulblad'!G78*SUM(G33:G36) -> 0 | H39: ='Stap 2. Invulblad'!H78*SUM(H33:H36) -> 0 | I39: ='Stap 2. Invulblad'!I78*SUM(I33:I36) -> 0 | J39: ='Stap 2. Invulblad'!J78*SUM(J33:J36) -> 0 | K39: ='Stap 2. Invulblad'!K78*SUM(K33:K36) -> 0 | ... S39: ='Stap 2. Invulblad'!S78*SUM(S33:S36) -> 0
B40: Totale bruto uurloon incl. sociale lasten | D40: =SUM(D38:D39) -> 0 | E40: =SUM(E38:E39) -> 0 | F40: =SUM(F38:F39) -> 0 | G40: =SUM(G38:G39) -> 0 | H40: =SUM(H38:H39) -> 0 | I40: =SUM(I38:I39) -> 0 | J40: =SUM(J38:J39) -> 0 | K40: =SUM(K38:K39) -> 0 | ... S40: =SUM(S38:S39) -> 0 | T40: =IF(OR(T33="",T33=0),0,SUM(T38:T39)) -> 0
B41: Gecorrigeerd voor productiviteit (p) | D41: =IF(D40=0,"",D40/'Stap 2. Invulblad'!D104) | E41: =IF(E40=0,"",E40/'Stap 2. Invulblad'!E104) | F41: =IF(F40=0,"",F40/'Stap 2. Invulblad'!F104) | G41: =IF(G40=0,"",G40/'Stap 2. Invulblad'!G104) | H41: =IF(H40=0,"",H40/'Stap 2. Invulblad'!H104) | I41: =IF(I40=0,"",I40/'Stap 2. Invulblad'!I104) | J41: =IF(J40=0,"",J40/'Stap 2. Invulblad'!J104) | K41: =IF(K40=0,"",K40/'Stap 2. Invulblad'!K104) | ... T41: =IF(T40=0,"",T40/'Stap 2. Invulblad'!T104)
B42: Reiskosten (m) | D42: =IF(D33="","",'Stap 2. Invulblad'!$C$114) | E42: =IF(E33="","",'Stap 2. Invulblad'!$C$114) | F42: =IF(F33="","",'Stap 2. Invulblad'!$C$114) | G42: =IF(G33="","",'Stap 2. Invulblad'!$C$114) | H42: =IF(H33="","",'Stap 2. Invulblad'!$C$114) | I42: =IF(I33="","",'Stap 2. Invulblad'!$C$114) | J42: =IF(J33="","",'Stap 2. Invulblad'!$C$114) | K42: =IF(K33="","",'Stap 2. Invulblad'!$C$114) | ... R42: =IF(R33="","",'Stap 2. Invulblad'!$C$114) | S42: =IF(S33=0,"",'Stap 2. Invulblad'!$C$114) -> 0 | T42: =IF(T33=0,"",'Stap 2. Invulblad'!$C$114) -> 0
B43: Totale bruto uurloon incl. reiskosten | D43: =SUM(D41:D42) -> 0 | E43: =SUM(E41:E42) -> 0 | F43: =SUM(F41:F42) -> 0 | G43: =SUM(G41:G42) -> 0 | H43: =SUM(H41:H42) -> 0 | I43: =SUM(I41:I42) -> 0 | J43: =SUM(J41:J42) -> 0 | K43: =SUM(K41:K42) -> 0 | ... T43: =SUM(T41:T42) -> 0
B45: Opslag voor overheadkosten (p / m) | C45: ='Stap 2. Invulblad'!E145 -> 0 | D45: =$C45*D$43 -> 0 | E45: =$C45*E$43 -> 0 | F45: =$C45*F$43 -> 0 | G45: =$C45*G$43 -> 0 | H45: =$C45*H$43 -> 0 | I45: =$C45*I$43 -> 0 | J45: =$C45*J$43 -> 0 | K45: =$C45*K$43 -> 0 | ... S45: =$C45*S$43 -> 0 | T45: 0
B46: Opslag kosten voor vastgoed (m) | C46: ='Stap 2. Invulblad'!E146 -> 0 | D46: =$C46*D$43 -> 0 | E46: =$C46*E$43 -> 0 | F46: =$C46*F$43 -> 0 | G46: =$C46*G$43 -> 0 | H46: =$C46*H$43 -> 0 | I46: =$C46*I$43 -> 0 | J46: =$C46*J$43 -> 0 | K46: =$C46*K$43 -> 0 | ... S46: =$C46*S$43 -> 0 | T46: 0
B47: Opslag overige personele kosten (m) | C47: ='Stap 2. Invulblad'!E147 -> 0 | D47: =$C47*D$43 -> 0 | E47: =$C47*E$43 -> 0 | F47: =$C47*F$43 -> 0 | G47: =$C47*G$43 -> 0 | H47: =$C47*H$43 -> 0 | I47: =$C47*I$43 -> 0 | J47: =$C47*J$43 -> 0 | K47: =$C47*K$43 -> 0 | ... S47: =$C47*S$43 -> 0 | T47: 0
...

Sheet Stap 4. Algemene toelichting
A1: Algemene toelichting zorgaanbieder
B3: Vul hier de benodigde gegevens in (groene cellen). Voor de legenda en uitleg zie het tabblad 'Stap 1. Handleiding'.
A5: Algemene gegevens zorgaanbieder
B7: Omzet
C9: Omzet
B11: Totale omzet zorgaanbieder in 2025 | G11: Vul hier de totale omzet van de zorgorganisatie in euro's in.
B12: Waarvan omzet Zvw wijkverpleging in 2025 | G12: Vul hier de omzet van de zorgorganisatie voor Zvw wijkverpleging in euro's in.
A15: Algemene toelichting zorgaanbieder
B17: Algemene toelichting
B19: Licht hier uw input op de rekentool kosten wijkverpleging toe.
C21: Biedt uw organisatie onderstaande vorm van zorg? | F21: Heeft u de kosten hiervan meegenomen in de integrale kostprijs? | I21: Eventuele toelichting
B22: Onplanbare nachtzorg | C22: Nee, ik ben niet de organisator van de onplanbare nachtzorg voor de regio | F22: Nee, want de onplanbare nachtzorg wordt in mijn regio lumpsump bekostigd | N22: Licht waar nodig toe. Bij overige zorgvormen, licht deze toe.
B23: Herkenbare en aanspreekbare wijkverpleging | C23: Nee | F23: Nee
B24: Verpleegkundig technische teams | C24: Nee | F24: Nee
B25: Inzet van gespecialiseerde verpleegkundigen, namelijk:
B26: Oncologie | C26: Nee | F26: Nee
B27: Medische kind-zorg | C27: Nee | F27: Nee
B28: Wondzorg | C28: Nee | F28: Nee
B29: CVA | C29: Nee | F29: Nee
B30: Hart-long | C30: Nee | F30: Nee
B31: Casemanagement dementie | C31: Nee | F31: Nee
B32: Palliatief verpleegkundigen | C32: Nee | F32: Nee
B33: Parkinson | C33: Nee | F33: Nee
B34: Overig, namelijk…. (licht toe) | C34: Nee | F34: Nee
B35: Hospicezorg/BTH | C35: Nee | F35: Nee
B36: Overig, namelijk…. (licht toe) | C36: Nee | F36: Nee
B39: Algemene toelichting vanuit uw organisatie | N39: Licht waar nodig toe. Denk aan een aantal organisatie- en regiospecifieke karakteristieken.
B40: Toelichting op het kostprijselement: de kosten van de beroepskracht (loon, vakantiegeld, ORT, eindejaarsuitkering, sociale lasten) | N40: Licht waar nodig toe. Denk bijvoorbeeld aan de functiemix en de inzet van ingehuurd personeel. Indien er geen gebruik is gemaakt van de begroting, geef dit aan. Indien er voor het betreffende jaar er een incidenteel effect zit in dit kostprijselement, geef dit aan.
B41: Toelichting op indexatie | N41: Bijvoorbeeld welke aspecten en effecten zijn meegenomenin de indexatie van het uurloon. Vermeld als mogelijk de bron of basis van de indexatie.
B42: Toelichting op het kostprijselement: de niet-productieve uren | N42: Licht waar nodig toe. Indien er geen gebruik is gemaakt van de begroting, geef dit aan. Indien er voor het betreffende jaar er een incidenteel effect zit in dit kostprijselement, geef dit aan.
B43: Toelichting op het kostprijselement: de reiskosten | N43: Licht waar nodig toe. Indien er geen gebruik is gemaakt van de begroting, geef dit aan. Indien er voor het betreffende jaar er een incidenteel effect zit in dit kostprijselement, geef dit aan.
B44: Toelichting op het kostprijselement: overheadkosten | N44: Licht waar nodig toe. Indien er geen gebruik is gemaakt van de begroting, geef dit aan. Indien er voor het betreffende jaar er een incidenteel effect zit in dit kostprijselement, geef dit aan.
B45: Toelichting op het kostprijselement: de opslag voor risico | N45: Licht toe hoe u tot het risico bent gekomen. Licht verder waar nodig toe.
B46: Toelichting op het kostprijselement: de opslag voor innovatie | N46: Licht toe hoe u tot de opslag voor innovatie bent gekomen. Licht verder waar nodig toe. Benoem hier bijvoorbeeld de innovatieve projecten en de ketenafspraken.
B47: Toelichting op het kostprijselement: de opslag voor marge | N47: Licht toe hoe u tot de marge bent gekomen. Licht verder waar nodig toe.
B48: Toelichting op de opbrengsten: opleidingssubsidies | N48: Licht toe. Zoals welke subsidie(s) het betreft en op welke manier u tot een inschatting bent gekomen van deze opbrengsten. Geef aan of het een ‘aangevraagde’, ‘toegezegde’ of ‘reeds betaalde subsidie’ betreft.
B49: Toelichting op de opbrengsten: overige subsidies | N49: Licht toe. Zoals welke subsidie(s) het betreft en op welke manier u tot een inschatting bent gekomen van deze opbrengsten. Geef aan of het een ‘aangevraagde’, ‘toegezegde’ of ‘reeds betaalde subsidie’ betreft.
B50: Toelichting op de opbrengsten: overige opbrengsten | N50: Licht toe. Zoals welke opbrengsten het betreft en op welke manier u tot een inschatting bent gekomen van deze opbrengsten.
B54: Toelichting opleiden binnen de wijkverpleging | N54: Licht waar nodig toe (1) hoe opleiding is meegenomen in de rekentool (functiemix, productiviteit, etc.) en (2) hoe de (toekomstige) rol van opleiden de input op de rekentool beïnvloed

Sheet Lijsten
A1: Onplanbare nachtzorg
A2: Ja, wij zijn de zelfstandige organisator voor de onplanbare nachtzorg in de regio
A3: Ja, wij zijn mede-organisator (in een samenwerkingsverband) van de onplanbare nachtzorg in de regio
A4: Nee, ik ben niet de organisator van de onplanbare nachtzorg voor de regio
A6: Onplanbare nachtzorg
A7: Nee, mijn organisatie levert geen onplanbare nachtzorg
A8: Nee, want de onplanbare nachtzorg wordt in mijn regio lumpsump bekostigd
A9: Ja

Sheet Uitgangspunten
A1: Uitgangspunten
B2: Versienummer: 6.2
B3: Versie: 23 juni 2025
B4: Peiljaar: 2025 en 2026 (met mogelijkheid tot indexatie)
B5: Status: voorlopig
B7: Doel rekentool
B8: Deze rekentool heeft als doel om zorgaanbieders op een transparante en eenvoudige manier in staat te stellen om kostprijzen in kaart te brengen voor de Wijkverpleging. Tevens kan de rekentool intern gebruikt worden. Indien de splitsing tussen Wlz en Zvw bijvoorbeeld niet te maken is, kun je ook beide meenemen in de rekentool.
B9: Het gebruik van deze rekentool is geen verplichting. De uitkomst van deze rekentool staat niet gelijk aan het tarief.
B11: Algemene uitgangspunten
B12: - | C12: In deze rekentool staat de integrale kostprijs voor verpleging en verzorging centraal. Daaronder vallen de prestaties:
C13: 1. Persoonlijke verzorging
C14: 2. Oproepbare verzorging
C15: 3. Verpleging
C16: 4. Oproepbare verpleging
C17: 5. Gespecialiseerde verpleging
C18: 6. Advies, instructie en voorlichting (AIV)
C19: 7. Verpleging en verzorging aan kinderen tot 18 jaar
C20: Opslagen voor de volgende prestaties zijn geen onderdeel van de rekentool en worden niet meegenomen:
C21: 1. Thuiszorgtechnologie
C22: 2. Ketenzorg dementie
C23: 3. Beloning op maat
C24: 4. Regionale beschikbaarheidsfunctie voor onplanbare zorg (voor zover hier regionale afspraken over zijn en deze lumpsum bekostigd worden)
C25: 5. Onderlinge dienstverlening
B26: - | C26: De tool berekent een kostprijs per declarabel uur voor wijkverpleging.
B27: - | C27: De rekentool gaat uit van de kostprijs voor 2025. Er is mogelijkheid tot indexatie.
B28: - | C28: Deze rekentool gaat uit van de cao VVT.
B29: - | C29: In de tool wordt gerekend met drie soorten data, afhankelijk van de mate waarin ruimte en noodzaak bestaat voor lokale invulling (zie hiervoor ook de legenda op de oranje tabbladen):
C30: ‘Vaststaande data’ zoals cao-gebonden kosten;
C31: ‘Suggesties’ zoals opslagen sociale lasten, waarbij landelijke cijfers beschikbaar zijn als suggestie voor lokaal gebruik;
C32: ‘Open data’ die per definitie verzameld moet worden.
B33: - | C33: Dit rekenmodel dient slechts als instrument om de eigen kostprijsstructuur van individuele aanbieders op objectieve wijze in beeld te brengen. Elke aanbieder is vrij om dit rekenmodel op eigen wijze te gebruiken. Dit rekenmodel bevat uitdrukkelijk geen enkele aanbeveling of suggestie ten aanzien van de doorberekening van de kosten in de (verkoop)prijs. Aanbieders dienen (in de onderhandelingen met zorgverzekeraars) zelfstandig hun prijsbeleid en verkoopprijzen vast te stellen.
B36: Uitgangspunten per kostenelement
B37: - | C37: In de berekening voor de kostprijs per uur wordt gewerkt met de vijf kostenelementen en één element voor de opbrengsten.
B38: 1 | C38: Kosten van de beroepskracht
B39: 2 | C39: Niet-productieve uren
B40: 3 | C40: Reiskosten
B41: 4 | C41: Overheadkosten
B42: 5 | C42: Opslagen voor risico, innovatie en marge worden in de tool apart in kaart gebracht; de drie elementen kunnen los van elkaar worden ingevuld
B43: 6 | C43: Overige opbrengsten
B45: 1. Kosten van de beroepskracht
...

Sheet CAO_VVT
A1: Salarisschalen cao VVT
A2: Bron: cao VVT 2025-2026
A4: Aannames
A6: Verdeling uurloon 2025, cao per 1 januari 2025 | D6: 0.5 | F6: Schaal t/m juni 2025
A7: Verdeling uurloon 2025, cao per 1 juli 2025 | D7: 0.5 | F7: Schaal vanaf juli 2025
A8: Verdeling uurloon 2026, cao per 1 juli 2026 | D8: 0 | F8: Schaal vanaf juli 2026
A9: Totaal | D9: =SUM(D6:D8) -> 1
A10: Aantal uren per jaar | D10: 1878 | F10: Op basis van hoofdstuk 1, algemene bepaling 15
A11: Minimumuurloon 2025 | D11: 14.06 | F11: Brutobedrag per uur vanaf 1 januari 2025; Wet minimumloon en minimumvakantiebijslag artikel 8.1
A13: Data
A15: Salarisschalen per 1 oktober 2018 | H15: Salarisschalen per 1 juni 2020/periode 6 per 18 mei 2020 | O15: Salarisschalen per 1 juli 2021/periode 7 per 21 juni 2021 | V15: Salarisschalen per 1 maart 2022/periode 3 * | AC15: Salarisschalen per 1 maart 2023/periode 3 | AJ15: Salarisschalen per 1 oktober 2023/periode 11 | AQ15: Salarisschalen per 1 maart 2024/periode 3 | AX15: Salarisschalen per 1 januari 2025 (geen wijzigingen t.o.v. 1 oktober 2024/periode 3) | BE15: Salarisschalen per 1 juli 2025 | BL15: Salarisschalen per 1 juli 2026 | BS15: Salarisschaal 2025 en 2026
A16: Schaal | B16: Periodiek | C16: Volgnr. | D16: Periodiek | E16: Sleutel | F16: Uurloon* | H16: Schaal | I16: Periodiek | J16: Volgnr. | K16: Periodiek | L16: Sleutel | M16: Uurloon* | O16: Schaal | P16: Periodiek | Q16: Volgnr. | R16: Periodiek | S16: Sleutel | T16: Uurloon* | V16: Schaal | W16: Periodiek | X16: Volgnr. | Y16: Periodiek | Z16: Sleutel | AA16: Uurloon* | AC16: Schaal | AD16: Periodiek | AE16: Volgnr. | AF16: Periodiek | AG16: Sleutel | AH16: Uurloon* | AJ16: Schaal | AK16: Periodiek | AL16: Volgnr. | AM16: Periodiek | AN16: Sleutel | AO16: Uurloon* | AQ16: Schaal | AR16: Periodiek | AS16: Volgnr. | AT16: Periodiek | AU16: Sleutel | AV16: Uurloon* | AX16: Schaal | AY16: Periodiek | AZ16: Volgnr. | BA16: Periodiek | BB16: Sleutel | BC16: Uurloon* | BE16: Schaal | BF16: Periodiek | BG16: Volgnr. | BH16: Periodiek | BI16: Sleutel | BJ16: Uurloon* | BL16: Schaal | BM16: Periodiek | BN16: Volgnr. | BO16: Periodiek | BP16: Sleutel | BQ16: Uurloon* | BS16: Schaal | BT16: Periodiek | BU16: Volgnr. | BV16: Periodiek | BW16: Sleutel | BX16: Uurloon cao 2025 (per 1 januari) | BY16: Uurloon cao 2025 (per 1 juli) | BZ16: Uurloon cao 2026 (per 1 juli) | CA16: Gewogen uurloon
A17: 5 | B17: 16_jaar | C17: WMJL | D17: =B17 -> 16_jaar | E17: =A17&"_"&D17 -> 5_16_jaar | F17: 3.53 | H17: 5 | I17: 16_jaar | J17: WMJL | K17: =I17 -> 16_jaar | L17: =H17&"_"&K17 -> 5_16_jaar | M17: 3.66 | O17: 5 | P17: 16_jaar | Q17: WMJL | R17: =P17 -> 16_jaar | S17: =O17&"_"&R17 -> 5_16_jaar | T17: 3.77 | V17: 5 | W17: 16_jaar | X17: WMJL | Y17: =W17 -> 16_jaar | Z17: =V17&"_"&Y17 -> 5_16_jaar | AA17: vervalt | AC17: 5 | AD17: 16_jaar | AE17: WMJL | AF17: =AD17 -> 16_jaar | AG17: =AC17&"_"&AF17 -> 5_16_jaar | AH17: vervalt | AJ17: 5 | AK17: 16_jaar | AL17: WMJL | AM17: =AK17 -> 16_jaar | AN17: =AJ17&"_"&AM17 -> 5_16_jaar | AO17: vervalt | AQ17: 5 | AR17: 16_jaar | AS17: WMJL | AT17: =AR17 -> 16_jaar | AU17: =AQ17&"_"&AT17 -> 5_16_jaar | AV17: vervalt | AX17: 5 | AY17: 16_jaar | AZ17: WMJL | BA17: =AY17 -> 16_jaar | BB17: =AX17&"_"&BA17 -> 5_16_jaar | BC17: vervalt | BE17: 5 | BF17: 16_jaar | BG17: WMJL | BH17: =BF17 -> 16_jaar | BI17: =BE17&"_"&BH17 -> 5_16_jaar | BJ17: vervalt | BL17: 5 | BM17: 16_jaar | BN17: WMJL | BO17: 16_jaar | BP17: 5_16_jaar | BQ17: vervalt | BS17: 5 | BT17: 16_jaar | BU17: WMJL | BV17: =BT17 -> 16_jaar | BW17: =BS17&"_"&BV17 -> 5_16_jaar | BX17: =INDEX($BC$17:$BC$237,MATCH(BW17,$BB$17:$BB$237,0)) -> vervalt | BY17: =INDEX($BJ$17:$BJ$237,MATCH(BW17,$BI$17:$BI$237,0)) -> vervalt | BZ17: =INDEX($BQ$17:$BQ$237,MATCH(BW17,$BP$17:$BP$237,0)) -> vervalt | CA17: =IFERROR($D$6*BX17+$D$7*BY17+$D$8*BZ17,"vervalt") -> vervalt
A18: 5 | B18: 17_jaar | C18: WMJL | D18: =B18 -> 17_jaar | E18: =A18&"_"&D18 -> 5_17_jaar | F18: 4.04 | H18: 5 | I18: 17_jaar | J18: WMJL | K18: =I18 -> 17_jaar | L18: =H18&"_"&K18 -> 5_17_jaar | M18: 4.19 | O18: 5 | P18: 17_jaar | Q18: WMJL | R18: =P18 -> 17_jaar | S18: =O18&"_"&R18 -> 5_17_jaar | T18: 4.31 | V18: 5 | W18: 17_jaar | X18: WMJL | Y18: =W18 -> 17_jaar | Z18: =V18&"_"&Y18 -> 5_17_jaar | AA18: vervalt | AC18: 5 | AD18: 17_jaar | AE18: WMJL | AF18: =AD18 -> 17_jaar | AG18: =AC18&"_"&AF18 -> 5_17_jaar | AH18: vervalt | AJ18: 5 | AK18: 17_jaar | AL18: WMJL | AM18: =AK18 -> 17_jaar | AN18: =AJ18&"_"&AM18 -> 5_17_jaar | AO18: vervalt | AQ18: 5 | AR18: 17_jaar | AS18: WMJL | AT18: =AR18 -> 17_jaar | AU18: =AQ18&"_"&AT18 -> 5_17_jaar | AV18: vervalt | AX18: 5 | AY18: 17_jaar | AZ18: WMJL | BA18: =AY18 -> 17_jaar | BB18: =AX18&"_"&BA18 -> 5_17_jaar | BC18: vervalt | BE18: 5 | BF18: 17_jaar | BG18: WMJL | BH18: =BF18 -> 17_jaar | BI18: =BE18&"_"&BH18 -> 5_17_jaar | BJ18: vervalt | BL18: 5 | BM18: 17_jaar | BN18: WMJL | BO18: 17_jaar | BP18: 5_17_jaar | BQ18: vervalt | BS18: 5 | BT18: 17_jaar | BU18: WMJL | BV18: =BT18 -> 17_jaar | BW18: =BS18&"_"&BV18 -> 5_17_jaar | BX18: =INDEX($BC$17:$BC$237,MATCH(BW18,$BB$17:$BB$237,0)) -> vervalt | BY18: =INDEX($BJ$17:$BJ$237,MATCH(BW18,$BI$17:$BI$237,0)) -> vervalt | BZ18: =INDEX($BQ$17:$BQ$237,MATCH(BW18,$BP$17:$BP$237,0)) -> vervalt | CA18: =IFERROR($D$6*BX18+$D$7*BY18+$D$8*BZ18,"vervalt") -> vervalt
A19: 5 | B19: 18_jaar | C19: WMJL | D19: =B19 -> 18_jaar | E19: =A19&"_"&D19 -> 5_18_jaar | F19: 4.86 | H19: 5 | I19: 18_jaar | J19: WMJL | K19: =I19 -> 18_jaar | L19: =H19&"_"&K19 -> 5_18_jaar | M19: 5.3 | O19: 5 | P19: 18_jaar | Q19: WMJL | R19: =P19 -> 18_jaar | S19: =O19&"_"&R19 -> 5_18_jaar | T19: 5.46 | V19: 5 | W19: 18_jaar | X19: WMJL | Y19: =W19 -> 18_jaar | Z19: =V19&"_"&Y19 -> 5_18_jaar | AA19: vervalt | AC19: 5 | AD19: 18_jaar | AE19: WMJL | AF19: =AD19 -> 18_jaar | AG19: =AC19&"_"&AF19 -> 5_18_jaar | AH19: vervalt | AJ19: 5 | AK19: 18_jaar | AL19: WMJL | AM19: =AK19 -> 18_jaar | AN19: =AJ19&"_"&AM19 -> 5_18_jaar | AO19: vervalt | AQ19: 5 | AR19: 18_jaar | AS19: WMJL | AT19: =AR19 -> 18_jaar | AU19: =AQ19&"_"&AT19 -> 5_18_jaar | AV19: vervalt | AX19: 5 | AY19: 18_jaar | AZ19: WMJL | BA19: =AY19 -> 18_jaar | BB19: =AX19&"_"&BA19 -> 5_18_jaar | BC19: vervalt | BE19: 5 | BF19: 18_jaar | BG19: WMJL | BH19: =BF19 -> 18_jaar | BI19: =BE19&"_"&BH19 -> 5_18_jaar | BJ19: vervalt | BL19: 5 | BM19: 18_jaar | BN19: WMJL | BO19: 18_jaar | BP19: 5_18_jaar | BQ19: vervalt | BS19: 5 | BT19: 18_jaar | BU19: WMJL | BV19: =BT19 -> 18_jaar | BW19: =BS19&"_"&BV19 -> 5_18_jaar | BX19: =INDEX($BC$17:$BC$237,MATCH(BW19,$BB$17:$BB$237,0)) -> vervalt | BY19: =INDEX($BJ$17:$BJ$237,MATCH(BW19,$BI$17:$BI$237,0)) -> vervalt | BZ19: =INDEX($BQ$17:$BQ$237,MATCH(BW19,$BP$17:$BP$237,0)) -> vervalt | CA19: =IFERROR($D$6*BX19+$D$7*BY19+$D$8*BZ19,"vervalt") -> vervalt
A20: 5 | B20: 19_jaar | C20: WMJL | D20: =B20 -> 19_jaar | E20: =A20&"_"&D20 -> 5_19_jaar | F20: 5.63 | H20: 5 | I20: 19_jaar | J20: WMJL | K20: =I20 -> 19_jaar | L20: =H20&"_"&K20 -> 5_19_jaar | M20: 6.36 | O20: 5 | P20: 19_jaar | Q20: WMJL | R20: =P20 -> 19_jaar | S20: =O20&"_"&R20 -> 5_19_jaar | T20: 6.55 | V20: 5 | W20: 19_jaar | X20: WMJL | Y20: =W20 -> 19_jaar | Z20: =V20&"_"&Y20 -> 5_19_jaar | AA20: vervalt | AC20: 5 | AD20: 19_jaar | AE20: WMJL | AF20: =AD20 -> 19_jaar | AG20: =AC20&"_"&AF20 -> 5_19_jaar | AH20: vervalt | AJ20: 5 | AK20: 19_jaar | AL20: WMJL | AM20: =AK20 -> 19_jaar | AN20: =AJ20&"_"&AM20 -> 5_19_jaar | AO20: vervalt | AQ20: 5 | AR20: 19_jaar | AS20: WMJL | AT20: =AR20 -> 19_jaar | AU20: =AQ20&"_"&AT20 -> 5_19_jaar | AV20: vervalt | AX20: 5 | AY20: 19_jaar | AZ20: WMJL | BA20: =AY20 -> 19_jaar | BB20: =AX20&"_"&BA20 -> 5_19_jaar | BC20: vervalt | BE20: 5 | BF20: 19_jaar | BG20: WMJL | BH20: =BF20 -> 19_jaar | BI20: =BE20&"_"&BH20 -> 5_19_jaar | BJ20: vervalt | BL20: 5 | BM20: 19_jaar | BN20: WMJL | BO20: 19_jaar | BP20: 5_19_jaar | BQ20: vervalt | BS20: 5 | BT20: 19_jaar | BU20: WMJL | BV20: =BT20 -> 19_jaar | BW20: =BS20&"_"&BV20 -> 5_19_jaar | BX20: =INDEX($BC$17:$BC$237,MATCH(BW20,$BB$17:$BB$237,0)) -> vervalt | BY20: =INDEX($BJ$17:$BJ$237,MATCH(BW20,$BI$17:$BI$237,0)) -> vervalt | BZ20: =INDEX($BQ$17:$BQ$237,MATCH(BW20,$BP$17:$BP$237,0)) -> vervalt | CA20: =IFERROR($D$6*BX20+$D$7*BY20+$D$8*BZ20,"vervalt") -> vervalt
A21: 5 | B21: 20_jaar | C21: WMJL | D21: =B21 -> 20_jaar | E21: =A21&"_"&D21 -> 5_20_jaar | F21: 7.16 | H21: 5 | I21: 20_jaar | J21: WMJL | K21: =I21 -> 20_jaar | L21: =H21&"_"&K21 -> 5_20_jaar | M21: 8.49 | O21: 5 | P21: 20_jaar | Q21: WMJL | R21: =P21 -> 20_jaar | S21: =O21&"_"&R21 -> 5_20_jaar | T21: 8.73 | V21: 5 | W21: 20_jaar | X21: WMJL | Y21: =W21 -> 20_jaar | Z21: =V21&"_"&Y21 -> 5_20_jaar | AA21: vervalt | AC21: 5 | AD21: 20_jaar | AE21: WMJL | AF21: =AD21 -> 20_jaar | AG21: =AC21&"_"&AF21 -> 5_20_jaar | AH21: vervalt | AJ21: 5 | AK21: 20_jaar | AL21: WMJL | AM21: =AK21 -> 20_jaar | AN21: =AJ21&"_"&AM21 -> 5_20_jaar | AO21: vervalt | AQ21: 5 | AR21: 20_jaar | AS21: WMJL | AT21: =AR21 -> 20_jaar | AU21: =AQ21&"_"&AT21 -> 5_20_jaar | AV21: vervalt | AX21: 5 | AY21: 20_jaar | AZ21: WMJL | BA21: =AY21 -> 20_jaar | BB21: =AX21&"_"&BA21 -> 5_20_jaar | BC21: vervalt | BE21: 5 | BF21: 20_jaar | BG21: WMJL | BH21: =BF21 -> 20_jaar | BI21: =BE21&"_"&BH21 -> 5_20_jaar | BJ21: vervalt | BL21: 5 | BM21: 20_jaar | BN21: WMJL | BO21: 20_jaar | BP21: 5_20_jaar | BQ21: vervalt | BS21: 5 | BT21: 20_jaar | BU21: WMJL | BV21: =BT21 -> 20_jaar | BW21: =BS21&"_"&BV21 -> 5_20_jaar | BX21: =INDEX($BC$17:$BC$237,MATCH(BW21,$BB$17:$BB$237,0)) -> vervalt | BY21: =INDEX($BJ$17:$BJ$237,MATCH(BW21,$BI$17:$BI$237,0)) -> vervalt | BZ21: =INDEX($BQ$17:$BQ$237,MATCH(BW21,$BP$17:$BP$237,0)) -> vervalt | CA21: =IFERROR($D$6*BX21+$D$7*BY21+$D$8*BZ21,"vervalt") -> vervalt
A22: 5 | B22: 21_jaar | C22: WMJL | D22: =B22 -> 21_jaar | E22: =A22&"_"&D22 -> 5_21_jaar | F22: 8.69 | H22: 5 | I22: 21_jaar | J22: WMJL | K22: =I22 -> 21_jaar | L22: =H22&"_"&K22 -> 5_21_jaar | M22: 10.6 | O22: 5 | P22: 21_jaar | Q22: WMJL | R22: =P22 -> 21_jaar | S22: =O22&"_"&R22 -> 5_21_jaar | T22: 10.91 | V22: 5 | W22: 21_jaar | X22: WMJL | Y22: =W22 -> 21_jaar | Z22: =V22&"_"&Y22 -> 5_21_jaar | AA22: vervalt | AC22: 5 | AD22: 21_jaar | AE22: WMJL | AF22: =AD22 -> 21_jaar | AG22: =AC22&"_"&AF22 -> 5_21_jaar | AH22: vervalt | AJ22: 5 | AK22: 21_jaar | AL22: WMJL | AM22: =AK22 -> 21_jaar | AN22: =AJ22&"_"&AM22 -> 5_21_jaar | AO22: vervalt | AQ22: 5 | AR22: 21_jaar | AS22: WMJL | AT22: =AR22 -> 21_jaar | AU22: =AQ22&"_"&AT22 -> 5_21_jaar | AV22: vervalt | AX22: 5 | AY22: 21_jaar | AZ22: WMJL | BA22: =AY22 -> 21_jaar | BB22: =AX22&"_"&BA22 -> 5_21_jaar | BC22: vervalt | BE22: 5 | BF22: 21_jaar | BG22: WMJL | BH22: =BF22 -> 21_jaar | BI22: =BE22&"_"&BH22 -> 5_21_jaar | BJ22: vervalt | BL22: 5 | BM22: 21_jaar | BN22: WMJL | BO22: 21_jaar | BP22: 5_21_jaar | BQ22: vervalt | BS22: 5 | BT22: 21_jaar | BU22: WMJL | BV22: =BT22 -> 21_jaar | BW22: =BS22&"_"&BV22 -> 5_21_jaar | BX22: =INDEX($BC$17:$BC$237,MATCH(BW22,$BB$17:$BB$237,0)) -> vervalt | BY22: =INDEX($BJ$17:$BJ$237,MATCH(BW22,$BI$17:$BI$237,0)) -> vervalt | BZ22: =INDEX($BQ$17:$BQ$237,MATCH(BW22,$BP$17:$BP$237,0)) -> vervalt | CA22: =IFERROR($D$6*BX22+$D$7*BY22+$D$8*BZ22,"vervalt") -> vervalt
A23: 5 | B23: 22_jaar | C23: WMJL | D23: =B23 -> 22_jaar | E23: =A23&"_"&D23 -> 5_22_jaar | F23: 10.22 | H23: 10 | I23: 0 | J23: 1 | K23: =I23 -> 0 | L23: =H23&"_"&K23 -> 10_0 | M23: 10.15 | O23: 10 | P23: 0 | Q23: 1 | R23: =P23 -> 0 | S23: =O23&"_"&R23 -> 10_0 | T23: 10.45 | V23: 10 | W23: 0 | X23: 1 | Y23: =W23 -> 0 | Z23: =V23&"_"&Y23 -> 10_0 | AA23: vervalt | AC23: 10 | AD23: 0 | AE23: 1 | AF23: =AD23 -> 0 | AG23: =AC23&"_"&AF23 -> 10_0 | AH23: vervalt | AJ23: 10 | AK23: 0 | AL23: 1 | AM23: =AK23 -> 0 | AN23: =AJ23&"_"&AM23 -> 10_0 | AO23: vervalt | AQ23: 10 | AR23: 0 | AS23: 1 | AT23: =AR23 -> 0 | AU23: =AQ23&"_"&AT23 -> 10_0 | AV23: vervalt | AX23: 10 | AY23: 0 | AZ23: 1 | BA23: =AY23 -> 0 | BB23: =AX23&"_"&BA23 -> 10_0 | BC23: vervalt | BE23: 10 | BF23: 0 | BG23: 1 | BH23: =BF23 -> 0 | BI23: =BE23&"_"&BH23 -> 10_0 | BJ23: vervalt | BL23: 10 | BM23: 0 | BN23: 1 | BO23: 0 | BP23: 10_0 | BQ23: vervalt | BS23: 10 | BT23: 0 | BU23: 1 | BV23: =BT23 -> 0 | BW23: =BS23&"_"&BV23 -> 10_0 | BX23: =INDEX($BC$17:$BC$237,MATCH(BW23,$BB$17:$BB$237,0)) -> vervalt | BY23: =INDEX($BJ$17:$BJ$237,MATCH(BW23,$BI$17:$BI$237,0)) -> vervalt | BZ23: =INDEX($BQ$17:$BQ$237,MATCH(BW23,$BP$17:$BP$237,0)) -> vervalt | CA23: =IFERROR($D$6*BX23+$D$7*BY23+$D$8*BZ23,"vervalt") -> vervalt
A24: 10 | B24: 0 | C24: 1 | D24: =B24 -> 0 | E24: =A24&"_"&D24 -> 10_0 | F24: 9.8 | H24: 10 | I24: 1 | J24: 2 | K24: =I24 -> 1 | L24: =H24&"_"&K24 -> 10_1 | M24: 10.34 | O24: 10 | P24: 1 | Q24: 2 | R24: =P24 -> 1 | S24: =O24&"_"&R24 -> 10_1 | T24: 10.65 | V24: 10 | W24: 1 | X24: 2 | Y24: =W24 -> 1 | Z24: =V24&"_"&Y24 -> 10_1 | AA24: vervalt | AC24: 10 | AD24: 1 | AE24: 2 | AF24: =AD24 -> 1 | AG24: =AC24&"_"&AF24 -> 10_1 | AH24: vervalt | AJ24: 10 | AK24: 1 | AL24: 2 | AM24: =AK24 -> 1 | AN24: =AJ24&"_"&AM24 -> 10_1 | AO24: vervalt | AQ24: 10 | AR24: 1 | AS24: 2 | AT24: =AR24 -> 1 | AU24: =AQ24&"_"&AT24 -> 10_1 | AV24: vervalt | AX24: 10 | AY24: 1 | AZ24: 2 | BA24: =AY24 -> 1 | BB24: =AX24&"_"&BA24 -> 10_1 | BC24: vervalt | BE24: 10 | BF24: 1 | BG24: 2 | BH24: =BF24 -> 1 | BI24: =BE24&"_"&BH24 -> 10_1 | BJ24: vervalt | BL24: 10 | BM24: 1 | BN24: 2 | BO24: 1 | BP24: 10_1 | BQ24: vervalt | BS24: 10 | BT24: 1 | BU24: 2 | BV24: =BT24 -> 1 | BW24: =BS24&"_"&BV24 -> 10_1 | BX24: =INDEX($BC$17:$BC$237,MATCH(BW24,$BB$17:$BB$237,0)) -> vervalt | BY24: =INDEX($BJ$17:$BJ$237,MATCH(BW24,$BI$17:$BI$237,0)) -> vervalt | BZ24: =INDEX($BQ$17:$BQ$237,MATCH(BW24,$BP$17:$BP$237,0)) -> vervalt | CA24: =IFERROR($D$6*BX24+$D$7*BY24+$D$8*BZ24,"vervalt") -> vervalt
A25: 10 | B25: 1 | C25: 2 | D25: =B25 -> 1 | E25: =A25&"_"&D25 -> 10_1 | F25: 9.99 | H25: 10 | I25: 2 | J25: 3 | K25: =I25 -> 2 | L25: =H25&"_"&K25 -> 10_2 | M25: 10.53 | O25: 10 | P25: 2 | Q25: 3 | R25: =P25 -> 2 | S25: =O25&"_"&R25 -> 10_2 | T25: 10.85 | V25: 10 | W25: 2 | X25: 3 | Y25: =W25 -> 2 | Z25: =V25&"_"&Y25 -> 10_2 | AA25: vervalt | AC25: 10 | AD25: 2 | AE25: 3 | AF25: =AD25 -> 2 | AG25: =AC25&"_"&AF25 -> 10_2 | AH25: vervalt | AJ25: 10 | AK25: 2 | AL25: 3 | AM25: =AK25 -> 2 | AN25: =AJ25&"_"&AM25 -> 10_2 | AO25: vervalt | AQ25: 10 | AR25: 2 | AS25: 3 | AT25: =AR25 -> 2 | AU25: =AQ25&"_"&AT25 -> 10_2 | AV25: vervalt | AX25: 10 | AY25: 2 | AZ25: 3 | BA25: =AY25 -> 2 | BB25: =AX25&"_"&BA25 -> 10_2 | BC25: vervalt | BE25: 10 | BF25: 2 | BG25: 3 | BH25: =BF25 -> 2 | BI25: =BE25&"_"&BH25 -> 10_2 | BJ25: vervalt | BL25: 10 | BM25: 2 | BN25: 3 | BO25: 2 | BP25: 10_2 | BQ25: vervalt | BS25: 10 | BT25: 2 | BU25: 3 | BV25: =BT25 -> 2 | BW25: =BS25&"_"&BV25 -> 10_2 | BX25: =INDEX($BC$17:$BC$237,MATCH(BW25,$BB$17:$BB$237,0)) -> vervalt | BY25: =INDEX($BJ$17:$BJ$237,MATCH(BW25,$BI$17:$BI$237,0)) -> vervalt | BZ25: =INDEX($BQ$17:$BQ$237,MATCH(BW25,$BP$17:$BP$237,0)) -> vervalt | CA25: =IFERROR($D$6*BX25+$D$7*BY25+$D$8*BZ25,"vervalt") -> vervalt
A26: 10 | B26: 2 | C26: 3 | D26: =B26 -> 2 | E26: =A26&"_"&D26 -> 10_2 | F26: 10.17 | H26: 10 | I26: 3 | J26: 4 | K26: =I26 -> 3 | L26: =H26&"_"&K26 -> 10_3 | M26: 10.94 | O26: 10 | P26: 3 | Q26: 4 | R26: =P26 -> 3 | S26: =O26&"_"&R26 -> 10_3 | T26: 11.27 | V26: 10 | W26: 3 | X26: 4 | Y26: =W26 -> 3 | Z26: =V26&"_"&Y26 -> 10_3 | AA26: vervalt | AC26: 10 | AD26: 3 | AE26: 4 | AF26: =AD26 -> 3 | AG26: =AC26&"_"&AF26 -> 10_3 | AH26: vervalt | AJ26: 10 | AK26: 3 | AL26: 4 | AM26: =AK26 -> 3 | AN26: =AJ26&"_"&AM26 -> 10_3 | AO26: vervalt | AQ26: 10 | AR26: 3 | AS26: 4 | AT26: =AR26 -> 3 | AU26: =AQ26&"_"&AT26 -> 10_3 | AV26: vervalt | AX26: 10 | AY26: 3 | AZ26: 4 | BA26: =AY26 -> 3 | BB26: =AX26&"_"&BA26 -> 10_3 | BC26: vervalt | BE26: 10 | BF26: 3 | BG26: 4 | BH26: =BF26 -> 3 | BI26: =BE26&"_"&BH26 -> 10_3 | BJ26: vervalt | BL26: 10 | BM26: 3 | BN26: 4 | BO26: 3 | BP26: 10_3 | BQ26: vervalt | BS26: 10 | BT26: 3 | BU26: 4 | BV26: =BT26 -> 3 | BW26: =BS26&"_"&BV26 -> 10_3 | BX26: =INDEX($BC$17:$BC$237,MATCH(BW26,$BB$17:$BB$237,0)) -> vervalt | BY26: =INDEX($BJ$17:$BJ$237,MATCH(BW26,$BI$17:$BI$237,0)) -> vervalt | BZ26: =INDEX($BQ$17:$BQ$237,MATCH(BW26,$BP$17:$BP$237,0)) -> vervalt | CA26: =IFERROR($D$6*BX26+$D$7*BY26+$D$8*BZ26,"vervalt") -> vervalt
A27: 10 | B27: 3 | C27: 4 | D27: =B27 -> 3 | E27: =A27&"_"&D27 -> 10_3 | F27: 10.57 | H27: 10 | I27: 4 | J27: 5 | K27: =I27 -> 4 | L27: =H27&"_"&K27 -> 10_4 | M27: 11.34 | O27: 10 | P27: 4 | Q27: 5 | R27: =P27 -> 4 | S27: =O27&"_"&R27 -> 10_4 | T27: 11.68 | V27: 10 | W27: 4 | X27: 5 | Y27: =W27 -> 4 | Z27: =V27&"_"&Y27 -> 10_4 | AA27: vervalt | AC27: 10 | AD27: 4 | AE27: 5 | AF27: =AD27 -> 4 | AG27: =AC27&"_"&AF27 -> 10_4 | AH27: vervalt | AJ27: 10 | AK27: 4 | AL27: 5 | AM27: =AK27 -> 4 | AN27: =AJ27&"_"&AM27 -> 10_4 | AO27: vervalt | AQ27: 10 | AR27: 4 | AS27: 5 | AT27: =AR27 -> 4 | AU27: =AQ27&"_"&AT27 -> 10_4 | AV27: vervalt | AX27: 10 | AY27: 4 | AZ27: 5 | BA27: =AY27 -> 4 | BB27: =AX27&"_"&BA27 -> 10_4 | BC27: vervalt | BE27: 10 | BF27: 4 | BG27: 5 | BH27: =BF27 -> 4 | BI27: =BE27&"_"&BH27 -> 10_4 | BJ27: vervalt | BL27: 10 | BM27: 4 | BN27: 5 | BO27: 4 | BP27: 10_4 | BQ27: vervalt | BS27: 10 | BT27: 4 | BU27: 5 | BV27: =BT27 -> 4 | BW27: =BS27&"_"&BV27 -> 10_4 | BX27: =INDEX($BC$17:$BC$237,MATCH(BW27,$BB$17:$BB$237,0)) -> vervalt | BY27: =INDEX($BJ$17:$BJ$237,MATCH(BW27,$BI$17:$BI$237,0)) -> vervalt | BZ27: =INDEX($BQ$17:$BQ$237,MATCH(BW27,$BP$17:$BP$237,0)) -> vervalt | CA27: =IFERROR($D$6*BX27+$D$7*BY27+$D$8*BZ27,"vervalt") -> vervalt
A28: 10 | B28: 4 | C28: 5 | D28: =B28 -> 4 | E28: =A28&"_"&D28 -> 10_4 | F28: 10.96 | H28: 15 | I28: Aanloopperiodiek_0 | J28: 3 | K28: =I28 -> Aanloopperiodiek_0 | L28: =H28&"_"&K28 -> 15_Aanloopperiodiek_0 | M28: 10.53 | O28: 15 | P28: Aanloopperiodiek_0 | Q28: 3 | R28: =P28 -> Aanloopperiodiek_0 | S28: =O28&"_"&R28 -> 15_Aanloopperiodiek_0 | T28: 10.85 | V28: 15 | W28: Aanloopperiodiek_0 | X28: 3 | Y28: =W28 -> Aanloopperiodiek_0 | Z28: =V28&"_"&Y28 -> 15_Aanloopperiodiek_0 | AA28: vervalt | AC28: 15 | AD28: Aanloopperiodiek_0 | AE28: 3 | AF28: =AD28 -> Aanloopperiodiek_0 | AG28: =AC28&"_"&AF28 -> 15_Aanloopperiodiek_0 | AH28: vervalt | AJ28: 15 | AK28: Aanloopperiodiek_0 | AL28: 3 | AM28: =AK28 -> Aanloopperiodiek_0 | AN28: =AJ28&"_"&AM28 -> 15_Aanloopperiodiek_0 | AO28: vervalt | AQ28: 15 | AR28: Aanloopperiodiek_0 | AS28: 3 | AT28: =AR28 -> Aanloopperiodiek_0 | AU28: =AQ28&"_"&AT28 -> 15_Aanloopperiodiek_0 | AV28: vervalt | AX28: 15 | AY28: Aanloopperiodiek_0 | AZ28: 3 | BA28: =AY28 -> Aanloopperiodiek_0 | BB28: =AX28&"_"&BA28 -> 15_Aanloopperiodiek_0 | BC28: vervalt | BE28: 15 | BF28: Aanloopperiodiek_0 | BG28: 3 | BH28: =BF28 -> Aanloopperiodiek_0 | BI28: =BE28&"_"&BH28 -> 15_Aanloopperiodiek_0 | BJ28: vervalt | BL28: 15 | BM28: Aanloopperiodiek_0 | BN28: 3 | BO28: Aanloopperiodiek_0 | BP28: 15_Aanloopperiodiek_0 | BQ28: vervalt | BS28: 15 | BT28: Aanloopperiodiek_0 | BU28: 3 | BV28: =BT28 -> Aanloopperiodiek_0 | BW28: =BS28&"_"&BV28 -> 15_Aanloopperiodiek_0 | BX28: =INDEX($BC$17:$BC$237,MATCH(BW28,$BB$17:$BB$237,0)) -> vervalt | BY28: =INDEX($BJ$17:$BJ$237,MATCH(BW28,$BI$17:$BI$237,0)) -> vervalt | BZ28: =INDEX($BQ$17:$BQ$237,MATCH(BW28,$BP$17:$BP$237,0)) -> vervalt | CA28: =IFERROR($D$6*BX28+$D$7*BY28+$D$8*BZ28,"vervalt") -> vervalt
A29: 15 | B29: Aanloopperiodiek_0 | C29: 3 | D29: =B29 -> Aanloopperiodiek_0 | E29: =A29&"_"&D29 -> 15_Aanloopperiodiek_0 | F29: 10.17 | H29: 15 | I29: Aanloopperiodiek_1 | J29: 4 | K29: =I29 -> Aanloopperiodiek_1 | L29: =H29&"_"&K29 -> 15_Aanloopperiodiek_1 | M29: 10.94 | O29: 15 | P29: Aanloopperiodiek_1 | Q29: 4 | R29: =P29 -> Aanloopperiodiek_1 | S29: =O29&"_"&R29 -> 15_Aanloopperiodiek_1 | T29: 11.27 | V29: 15 | W29: Aanloopperiodiek_1 | X29: 4 | Y29: =W29 -> Aanloopperiodiek_1 | Z29: =V29&"_"&Y29 -> 15_Aanloopperiodiek_1 | AA29: vervalt | AC29: 15 | AD29: Aanloopperiodiek_1 | AE29: 4 | AF29: =AD29 -> Aanloopperiodiek_1 | AG29: =AC29&"_"&AF29 -> 15_Aanloopperiodiek_1 | AH29: vervalt | AJ29: 15 | AK29: Aanloopperiodiek_1 | AL29: 4 | AM29: =AK29 -> Aanloopperiodiek_1 | AN29: =AJ29&"_"&AM29 -> 15_Aanloopperiodiek_1 | AO29: vervalt | AQ29: 15 | AR29: Aanloopperiodiek_1 | AS29: 4 | AT29: =AR29 -> Aanloopperiodiek_1 | AU29: =AQ29&"_"&AT29 -> 15_Aanloopperiodiek_1 | AV29: vervalt | AX29: 15 | AY29: Aanloopperiodiek_1 | AZ29: 4 | BA29: =AY29 -> Aanloopperiodiek_1 | BB29: =AX29&"_"&BA29 -> 15_Aanloopperiodiek_1 | BC29: vervalt | BE29: 15 | BF29: Aanloopperiodiek_1 | BG29: 4 | BH29: =BF29 -> Aanloopperiodiek_1 | BI29: =BE29&"_"&BH29 -> 15_Aanloopperiodiek_1 | BJ29: vervalt | BL29: 15 | BM29: Aanloopperiodiek_1 | BN29: 4 | BO29: Aanloopperiodiek_1 | BP29: 15_Aanloopperiodiek_1 | BQ29: vervalt | BS29: 15 | BT29: Aanloopperiodiek_1 | BU29: 4 | BV29: =BT29 -> Aanloopperiodiek_1 | BW29: =BS29&"_"&BV29 -> 15_Aanloopperiodiek_1 | BX29: =INDEX($BC$17:$BC$237,MATCH(BW29,$BB$17:$BB$237,0)) -> vervalt | BY29: =INDEX($BJ$17:$BJ$237,MATCH(BW29,$BI$17:$BI$237,0)) -> vervalt | BZ29: =INDEX($BQ$17:$BQ$237,MATCH(BW29,$BP$17:$BP$237,0)) -> vervalt | CA29: =IFERROR($D$6*BX29+$D$7*BY29+$D$8*BZ29,"vervalt") -> vervalt
